BEGIN:VCALENDAR
VERSION:2.0
PRODID:-//ChamberMaster//Event Calendar 2.0//EN
METHOD:PUBLISH
X-PUBLISHED-TTL:P3D
REFRESH-INTERVAL:P3D
CALSCALE:GREGORIAN
BEGIN:VEVENT
DTSTART:20140321T130000Z
DTEND:20140321T211500Z
X-MICROSOFT-CDO-ALLDAYEVENT:FALSE
SUMMARY:Social Workers Conference
DESCRIPTION:Social Workers Conference (Richland Community Center\, 410 E. Harper Street\, Richland)
X-ALT-DESC;FMTTYPE=text/html:Social Workers Conference (Richland Community Center\, 410 E. Harper Street\, Richland)
LOCATION:
UID:e.1412.603
SEQUENCE:3
DTSTAMP:20260422T155233Z
URL:https://business.rankinchamber.com/events/details/social-workers-conference-03-21-2014-603
END:VEVENT

END:VCALENDAR
