BEGIN:VCALENDAR
VERSION:2.0
PRODID:-//ChamberMaster//Event Calendar 2.0//EN
METHOD:PUBLISH
X-PUBLISHED-TTL:P3D
REFRESH-INTERVAL:P3D
CALSCALE:GREGORIAN
BEGIN:VEVENT
DTSTART:20150317T163000Z
DTEND:20150317T180000Z
X-MICROSOFT-CDO-ALLDAYEVENT:FALSE
SUMMARY:State of the County Qtrly Luncheon
DESCRIPTION:State of the County Qtrly Luncheon (Rankin County Safe Room\, 651 Marquette Road\, Brandon)  \n\n\n\n$15 pay at the door\; RSVP to Ashlee at acoley@rankinchamber.com
X-ALT-DESC;FMTTYPE=text/html:State of the County Qtrly Luncheon (Rankin County Safe Room\, 651 Marquette Road\, Brandon) &nbsp\;<br />\n<br />\n$15 pay at the door\; RSVP to Ashlee at acoley@rankinchamber.com
LOCATION:
UID:e.1412.1883
SEQUENCE:3
DTSTAMP:20260421T202246Z
URL:https://business.rankinchamber.com/events/details/state-of-the-county-qtrly-luncheon-03-17-2015-1883
END:VEVENT

END:VCALENDAR
