BEGIN:VCALENDAR
VERSION:2.0
PRODID:-//ChamberMaster//Event Calendar 2.0//EN
METHOD:PUBLISH
X-PUBLISHED-TTL:P3D
REFRESH-INTERVAL:P3D
CALSCALE:GREGORIAN
BEGIN:VEVENT
DTSTART:20120823T163000Z
DTEND:20120823T180000Z
X-MICROSOFT-CDO-ALLDAYEVENT:FALSE
SUMMARY:Successful Women's Networking
DESCRIPTION:Successful Women's Networking is a networking opportunity offered to the women of the Chamber of Commerce! Don't miss out on this once in a lifetime event!\n\n\n\nThis months topic is regarding handmade jewelry and pottery!
X-ALT-DESC;FMTTYPE=text/html:Successful Women&#39\;s Networking is a networking opportunity offered to the women of the Chamber of Commerce! Don&#39\;t miss out on this once in a lifetime event!<br />\n<br />\nThis months topic is regarding handmade jewelry and pottery!<br />\n
LOCATION:Soulshine Pizza ( 5651 Hwy 25 Ste C\, Brandon\, MS 39047)
UID:e.1412.174
SEQUENCE:3
DTSTAMP:20260422T042746Z
URL:https://business.rankinchamber.com/events/details/successful-women-s-networking-08-23-2012-174
END:VEVENT

END:VCALENDAR
