BEGIN:VCALENDAR
VERSION:2.0
PRODID:-//ChamberMaster//Event Calendar 2.0//EN
METHOD:PUBLISH
X-PUBLISHED-TTL:P3D
REFRESH-INTERVAL:P3D
CALSCALE:GREGORIAN
BEGIN:VEVENT
DTSTART:20120927T163000Z
DTEND:20120927T180000Z
X-MICROSOFT-CDO-ALLDAYEVENT:FALSE
SUMMARY:Successful Women's Networking
DESCRIPTION:Successful Women's Networking is an opportunity for women to network their business as well as enjoy learning a fun and inviting topic every month! \n\n\n\nThis months topic is "How to do a Samaritans Purse for Less than Five Dollars"\n\nThe Speaker is Renee Jones with TempStaff\n\n\n\nPlease do not miss this opportunity to bring a smile to a Child's face this holiday season\, and to network your business while building friendships with the Chamber members.
X-ALT-DESC;FMTTYPE=text/html:Successful Women&#39\;s Networking is an opportunity for women to network their business as well as enjoy learning a fun and inviting topic every month!&nbsp\;<br />\n<br />\nThis months topic is &quot\;How to do a Samaritans Purse for Less than Five Dollars&quot\;<br />\nThe Speaker is Renee Jones with TempStaff<br />\n<br />\nPlease do not miss this opportunity to bring a smile to a Child&#39\;s face this holiday season\, and to network your business while building friendships with the Chamber members.&nbsp\;
LOCATION:Mugshots Bar and Grill on Lakeland
UID:e.1412.217
SEQUENCE:3
DTSTAMP:20260422T060840Z
URL:https://business.rankinchamber.com/events/details/successful-women-s-networking-09-27-2012-217
END:VEVENT

END:VCALENDAR
