BEGIN:VCALENDAR
VERSION:2.0
PRODID:-//ChamberMaster//Event Calendar 2.0//EN
METHOD:PUBLISH
X-PUBLISHED-TTL:P3D
REFRESH-INTERVAL:P3D
CALSCALE:GREGORIAN
BEGIN:VEVENT
DTSTART:20120628T163000Z
DTEND:20120628T180000Z
X-MICROSOFT-CDO-ALLDAYEVENT:FALSE
SUMMARY:Successful Womens Networking
DESCRIPTION:Have you ever wanted to market your business in a fun environment? Successful Women's Networking allows you to do that! Each luncheon's topic allows you to break the ice and discuss your business with other professionals while learning something new!
X-ALT-DESC;FMTTYPE=text/html:Have you&nbsp\;ever wanted to&nbsp\;<strong>market your&nbsp\;business</strong> in a <strong>fun&nbsp\;environment</strong>? <strong>Successful Women&#39\;s&nbsp\;Networking </strong>allows you to do that! Each&nbsp\;luncheon&#39\;s topic allows you&nbsp\;to break the ice&nbsp\;and discuss your business with&nbsp\;other professionals&nbsp\;while learning something new!&nbsp\;
LOCATION:Successful Women's Networking Luncheon will be held at Fat Cake Guy's Bakery (5352 Lakeland Drive #2000 Flowood\, MS 39232)
UID:e.1412.5
SEQUENCE:3
DTSTAMP:20260421T132720Z
URL:https://business.rankinchamber.com/events/details/successful-womens-networking-06-28-2012-5
END:VEVENT

END:VCALENDAR
