BEGIN:VCALENDAR
VERSION:2.0
PRODID:-//ChamberMaster//Event Calendar 2.0//EN
METHOD:PUBLISH
X-PUBLISHED-TTL:P3D
REFRESH-INTERVAL:P3D
CALSCALE:GREGORIAN
BEGIN:VEVENT
DTSTART:20120726T163000Z
DTEND:20120726T180000Z
X-MICROSOFT-CDO-ALLDAYEVENT:FALSE
SUMMARY:Successful Womens Networking (SWN)
DESCRIPTION:Successful Women's Networking
X-ALT-DESC;FMTTYPE=text/html:Successful Women&#39\;s Networking
LOCATION:Rankin County Chamber of Commerce (101 Service Dr. Brandon\, MS) Fall Fashion!
UID:e.1412.156
SEQUENCE:3
DTSTAMP:20260422T024909Z
URL:https://business.rankinchamber.com/events/details/successful-womens-networking-swn-07-26-2012-156
END:VEVENT

END:VCALENDAR
