BEGIN:VCALENDAR
VERSION:2.0
PRODID:-//ChamberMaster//Event Calendar 2.0//EN
METHOD:PUBLISH
X-PUBLISHED-TTL:P3D
REFRESH-INTERVAL:P3D
CALSCALE:GREGORIAN
BEGIN:VEVENT
DTSTART:20121025T163000Z
DTEND:20121025T180000Z
X-MICROSOFT-CDO-ALLDAYEVENT:FALSE
SUMMARY:SWN
DESCRIPTION:"Get Jolly with Ginny"\n\nGinny Taylor with That Southern Accent will be speaking on decorating mantels for the holiday season!
X-ALT-DESC;FMTTYPE=text/html:&quot\;Get Jolly with Ginny&quot\;<br />\nGinny Taylor with That Southern Accent will be speaking on decorating mantels for the holiday season!&nbsp\;
LOCATION:Rankin County Chamber of Commerce 101 Service Drive Brandon\, MS 39042
UID:e.1412.251
SEQUENCE:3
DTSTAMP:20260422T073623Z
URL:https://business.rankinchamber.com/events/details/swn-10-25-2012-251
END:VEVENT

END:VCALENDAR
