BEGIN:VCALENDAR
VERSION:2.0
PRODID:-//ChamberMaster//Event Calendar 2.0//EN
METHOD:PUBLISH
X-PUBLISHED-TTL:P3D
REFRESH-INTERVAL:P3D
CALSCALE:GREGORIAN
BEGIN:VEVENT
DTSTART:20130822T163000Z
DTEND:20130822T180000Z
X-MICROSOFT-CDO-ALLDAYEVENT:FALSE
SUMMARY:SWN: Successful Womens Networking
DESCRIPTION:SWN: Successful Womens Networking (location & speaker details to follow)
X-ALT-DESC;FMTTYPE=text/html:SWN: Successful Womens Networking (location &amp\; speaker details to follow)
LOCATION:
UID:e.1412.453
SEQUENCE:3
DTSTAMP:20260423T031647Z
URL:https://business.rankinchamber.com/events/details/swn-successful-womens-networking-08-22-2013-453
END:VEVENT

END:VCALENDAR
