BEGIN:VCALENDAR
VERSION:2.0
PRODID:-//ChamberMaster//Event Calendar 2.0//EN
METHOD:PUBLISH
X-PUBLISHED-TTL:P3D
REFRESH-INTERVAL:P3D
CALSCALE:GREGORIAN
BEGIN:VEVENT
DTSTART;VALUE=DATE:20131111
DTEND;VALUE=DATE:20131112
TRANSP:TRANSPARENT
X-MICROSOFT-CDO-ALLDAYEVENT:TRUE
SUMMARY:Veterans Day (Chamber closed)
DESCRIPTION:Veterans Day (Chamber office closed in observance)
X-ALT-DESC;FMTTYPE=text/html:Veterans Day (Chamber office closed in observance)
LOCATION:
UID:e.1412.518
SEQUENCE:3
DTSTAMP:20260422T220149Z
URL:https://business.rankinchamber.com/events/details/veterans-day-chamber-closed-11-11-2013-518
END:VEVENT

END:VCALENDAR
