BEGIN:VCALENDAR
VERSION:2.0
PRODID:-//ChamberMaster//Event Calendar 2.0//EN
METHOD:PUBLISH
X-PUBLISHED-TTL:P3D
REFRESH-INTERVAL:P3D
CALSCALE:GREGORIAN
BEGIN:VEVENT
DTSTART;VALUE=DATE:20141202
DTEND;VALUE=DATE:20141203
TRANSP:TRANSPARENT
X-MICROSOFT-CDO-ALLDAYEVENT:TRUE
SUMMARY:You Lead
DESCRIPTION:You Lead (Community Service Projects)
X-ALT-DESC;FMTTYPE=text/html:You Lead (Community Service Projects)
LOCATION:
UID:e.1412.763
SEQUENCE:3
DTSTAMP:20260422T012514Z
URL:https://business.rankinchamber.com/events/details/you-lead-12-02-2014-763
END:VEVENT

END:VCALENDAR
