BEGIN:VCALENDAR
VERSION:2.0
PRODID:-//ChamberMaster//Event Calendar 2.0//EN
METHOD:PUBLISH
X-PUBLISHED-TTL:P3D
REFRESH-INTERVAL:P3D
CALSCALE:GREGORIAN
BEGIN:VEVENT
DTSTART:20140915T230000Z
DTEND:20140916T000000Z
X-MICROSOFT-CDO-ALLDAYEVENT:FALSE
SUMMARY:YOU LEAD Orientation
DESCRIPTION:YOU LEAD Orientation (Rankin Youth Leadership)\n\nRankin County School District Admin Office\, Brandon
X-ALT-DESC;FMTTYPE=text/html:YOU LEAD Orientation (Rankin Youth Leadership)<br />\nRankin County School District Admin Office\, Brandon
LOCATION:
UID:e.1412.709
SEQUENCE:3
DTSTAMP:20260422T060155Z
URL:https://business.rankinchamber.com/events/details/you-lead-orientation-09-15-2014-709
END:VEVENT

END:VCALENDAR
