BEGIN:VCALENDAR
VERSION:2.0
PRODID:-//ChamberMaster//Event Calendar 2.0//EN
METHOD:PUBLISH
X-PUBLISHED-TTL:P3D
REFRESH-INTERVAL:P3D
CALSCALE:GREGORIAN
BEGIN:VEVENT
DTSTART;VALUE=DATE:20140924
DTEND;VALUE=DATE:20140925
TRANSP:TRANSPARENT
X-MICROSOFT-CDO-ALLDAYEVENT:TRUE
SUMMARY:YOU LEAD Retreat
DESCRIPTION:YOU LEAD Retreat (Twin Lakes)
X-ALT-DESC;FMTTYPE=text/html:YOU LEAD Retreat (Twin Lakes)
LOCATION:
UID:e.1412.713
SEQUENCE:3
DTSTAMP:20260422T061105Z
URL:https://business.rankinchamber.com/events/details/you-lead-retreat-09-24-2014-713
END:VEVENT

END:VCALENDAR
