BEGIN:VCALENDAR
VERSION:2.0
PRODID:-//ChamberMaster//Event Calendar 2.0//EN
METHOD:PUBLISH
X-PUBLISHED-TTL:P3D
REFRESH-INTERVAL:P3D
CALSCALE:GREGORIAN
BEGIN:VEVENT
DTSTART;VALUE=DATE:20151027
DTEND;VALUE=DATE:20151028
TRANSP:TRANSPARENT
X-MICROSOFT-CDO-ALLDAYEVENT:TRUE
SUMMARY:Youth Leadership
DESCRIPTION:Youth Leadership (Patriotism Day)
X-ALT-DESC;FMTTYPE=text/html:Youth Leadership (Patriotism Day)
LOCATION:
UID:e.1412.2004
SEQUENCE:3
DTSTAMP:20260421T084444Z
URL:https://business.rankinchamber.com/events/details/youth-leadership-10-27-2015-2004
END:VEVENT

END:VCALENDAR
