BEGIN:VCALENDAR
VERSION:2.0
PRODID:-//ChamberMaster//Event Calendar 2.0//EN
METHOD:PUBLISH
X-PUBLISHED-TTL:P3D
REFRESH-INTERVAL:P3D
CALSCALE:GREGORIAN
BEGIN:VEVENT
DTSTART;VALUE=DATE:20151007
DTEND;VALUE=DATE:20151008
TRANSP:TRANSPARENT
X-MICROSOFT-CDO-ALLDAYEVENT:TRUE
SUMMARY:Youth Leadership Retreat
DESCRIPTION:Youth Leadership Retreat (Twin Lakes\, Florence)
X-ALT-DESC;FMTTYPE=text/html:Youth Leadership Retreat (Twin Lakes\, Florence)
LOCATION:
UID:e.1412.1999
SEQUENCE:3
DTSTAMP:20260419T134234Z
URL:https://business.rankinchamber.com/events/details/youth-leadership-retreat-10-07-2015-1999
END:VEVENT

END:VCALENDAR
