BEGIN:VCALENDAR
VERSION:2.0
PRODID:-//ChamberMaster//Event Calendar 2.0//EN
METHOD:PUBLISH
X-PUBLISHED-TTL:P3D
REFRESH-INTERVAL:P3D
CALSCALE:GREGORIAN
BEGIN:VEVENT
DTSTART:20120927T233000Z
DTEND:20120928T003000Z
X-MICROSOFT-CDO-ALLDAYEVENT:FALSE
SUMMARY:Youth Leadership Welcome Social
DESCRIPTION:
X-ALT-DESC;FMTTYPE=text/html:
LOCATION:Brandon Library
UID:e.1412.222
SEQUENCE:3
DTSTAMP:20260422T060954Z
URL:https://business.rankinchamber.com/events/details/youth-leadership-welcome-social-09-27-2012-222
END:VEVENT

END:VCALENDAR
